BEGIN:VCALENDAR
VERSION:2.0
PRODID:-//Weecycle - ECPv6.15.18//NONSGML v1.0//EN
CALSCALE:GREGORIAN
METHOD:PUBLISH
X-WR-CALNAME:Weecycle
X-ORIGINAL-URL:https://weecycle.org
X-WR-CALDESC:Events for Weecycle
REFRESH-INTERVAL;VALUE=DURATION:PT1H
X-Robots-Tag:noindex
X-PUBLISHED-TTL:PT1H
BEGIN:VTIMEZONE
TZID:America/Denver
BEGIN:DAYLIGHT
TZOFFSETFROM:-0700
TZOFFSETTO:-0600
TZNAME:MDT
DTSTART:20230312T090000
END:DAYLIGHT
BEGIN:STANDARD
TZOFFSETFROM:-0600
TZOFFSETTO:-0700
TZNAME:MST
DTSTART:20231105T080000
END:STANDARD
BEGIN:DAYLIGHT
TZOFFSETFROM:-0700
TZOFFSETTO:-0600
TZNAME:MDT
DTSTART:20240310T090000
END:DAYLIGHT
BEGIN:STANDARD
TZOFFSETFROM:-0600
TZOFFSETTO:-0700
TZNAME:MST
DTSTART:20241103T080000
END:STANDARD
BEGIN:DAYLIGHT
TZOFFSETFROM:-0700
TZOFFSETTO:-0600
TZNAME:MDT
DTSTART:20250309T090000
END:DAYLIGHT
BEGIN:STANDARD
TZOFFSETFROM:-0600
TZOFFSETTO:-0700
TZNAME:MST
DTSTART:20251102T080000
END:STANDARD
BEGIN:DAYLIGHT
TZOFFSETFROM:-0700
TZOFFSETTO:-0600
TZNAME:MDT
DTSTART:20260308T090000
END:DAYLIGHT
BEGIN:STANDARD
TZOFFSETFROM:-0600
TZOFFSETTO:-0700
TZNAME:MST
DTSTART:20261101T080000
END:STANDARD
END:VTIMEZONE
BEGIN:VEVENT
DTSTART;TZID=America/Denver:20240804T100000
DTEND;TZID=America/Denver:20250804T120000
DTSTAMP:20260422T040254
CREATED:20250731T203518Z
LAST-MODIFIED:20250731T203518Z
UID:10000217-1722765600-1754308800@weecycle.org
SUMMARY:Donate Gear: Boulder Birth & Holistic Health Pop-Up Gear Drive
DESCRIPTION:Bring your gently-used baby gear to our Pop-Up Gear Drive at Boulder Birth & Holistic Health on Monday\, August 4th from 10am-12pm. \nWe will be accepting items for children ages 4 years old or younger.  Please only bring items that are clean and in good condition. We will not be accepting clothing or toys at this gear drive. \nPlease note: This is a Gear Collection Event. We will not be distributing diapers\, wipes or baby gear at this event.
URL:https://weecycle.org/event/donate-gear-boulder-birth-holistic-health-pop-up-gear-drive-2/
LOCATION:Boulder Birth Center\, 2800 Folsom St\, Boulder\, CO\, 80304\, United States
CATEGORIES:Pop Up Gear
ORGANIZER;CN="WeeCycle":MAILTO:info@weecycle.org
END:VEVENT
BEGIN:VEVENT
DTSTART;TZID=America/Denver:20241021T140000
DTEND;TZID=America/Denver:20241021T150000
DTSTAMP:20260422T040254
CREATED:20240912T190233Z
LAST-MODIFIED:20240917T151613Z
UID:10000095-1729519200-1729522800@weecycle.org
SUMMARY:Get Help: Colorado Springs - Solid Rock- CommUnity Food Pantry
DESCRIPTION:If you need help with baby essentials like diapers\, wipes\, baby food or formula\, “Wee” are here to provide a helping hand at Solid Rock- CommUnity Food Pantry. \n  \nThe Mobile Baby Essential Markets are intended to serve families walking up or driving to the markets.  We are not able to supply organizations or nonprofits with diaper supplies.  Please reach out to info@weecycle.org if you are a nonprofit looking to receive supplies for your families and we can add your organization to a waitlist.
URL:https://weecycle.org/event/get-help-colorado-springs-solid-rock-community-food-pantry-3/
LOCATION:Solid Rock – CommUnity Food Pantry\, 3219 S Academy Blvd\, Colorado Springs\, CO\, 80916\, United States
CATEGORIES:Distribution
ORGANIZER;CN="WeeCycle":MAILTO:info@weecycle.org
END:VEVENT
END:VCALENDAR