BEGIN:VCALENDAR
VERSION:2.0
PRODID:-//Weecycle - ECPv6.15.18//NONSGML v1.0//EN
CALSCALE:GREGORIAN
METHOD:PUBLISH
X-WR-CALNAME:Weecycle
X-ORIGINAL-URL:https://weecycle.org
X-WR-CALDESC:Events for Weecycle
REFRESH-INTERVAL;VALUE=DURATION:PT1H
X-Robots-Tag:noindex
X-PUBLISHED-TTL:PT1H
BEGIN:VTIMEZONE
TZID:America/Denver
BEGIN:DAYLIGHT
TZOFFSETFROM:-0700
TZOFFSETTO:-0600
TZNAME:MDT
DTSTART:20220313T090000
END:DAYLIGHT
BEGIN:STANDARD
TZOFFSETFROM:-0600
TZOFFSETTO:-0700
TZNAME:MST
DTSTART:20221106T080000
END:STANDARD
BEGIN:DAYLIGHT
TZOFFSETFROM:-0700
TZOFFSETTO:-0600
TZNAME:MDT
DTSTART:20230312T090000
END:DAYLIGHT
BEGIN:STANDARD
TZOFFSETFROM:-0600
TZOFFSETTO:-0700
TZNAME:MST
DTSTART:20231105T080000
END:STANDARD
BEGIN:DAYLIGHT
TZOFFSETFROM:-0700
TZOFFSETTO:-0600
TZNAME:MDT
DTSTART:20240310T090000
END:DAYLIGHT
BEGIN:STANDARD
TZOFFSETFROM:-0600
TZOFFSETTO:-0700
TZNAME:MST
DTSTART:20241103T080000
END:STANDARD
END:VTIMEZONE
BEGIN:VEVENT
DTSTART;TZID=America/Denver:20230911T090000
DTEND;TZID=America/Denver:20230911T110000
DTSTAMP:20260424T122743
CREATED:20230816T165733Z
LAST-MODIFIED:20230817T202751Z
UID:10000045-1694422800-1694430000@weecycle.org
SUMMARY:Pop-Up Gear Drive: Indian Crest Pediatrics
DESCRIPTION:Bring your gently-used baby gear to our pop-up gear drive at Indian Crest Pediatrics on Monday\, September 11th from 9am-11am. \nWe will be accepting items for children ages 4 years old or younger from 9am to 11am.  Please no clothing or toys at this event. \nPlease note: This is a Gear Collection Event. We will not be distributing diapers\, wipes or baby gear at this event.
URL:https://weecycle.org/event/indian-crest-pediatrics-gear-drive/
LOCATION:Indian Crest Pediatrics\, 7975 Allison Way Suite 100\, Arvada\, CO\, 80005\, United States
CATEGORIES:Pop Up Gear
ORGANIZER;CN="WeeCycle":MAILTO:info@weecycle.org
END:VEVENT
BEGIN:VEVENT
DTSTART;TZID=America/Denver:20230908T143000
DTEND;TZID=America/Denver:20230908T153000
DTSTAMP:20260424T122743
CREATED:20230809T160716Z
LAST-MODIFIED:20230817T195325Z
UID:10000035-1694183400-1694187000@weecycle.org
SUMMARY:Get Help: Colorado Springs – Monroe Elementary
DESCRIPTION:If you need help with baby essentials like diapers\, wipes\, baby food or formula\, “Wee” are here to provide a helping hand- and our friends at Care and Share will have food available as well! Everything is free and available to anyone in need. This is an outdoor\, walk-up market so remember to bring a wagon/stroller/reusable bags to carry items.
URL:https://weecycle.org/event/colorado-springs-monroe-elementary-2/
LOCATION:Monroe Elementary\, 15 Chelton Rd\, Colorado Springs\, CO\, 80910\, United States
CATEGORIES:Distribution
ORGANIZER;CN="WeeCycle":MAILTO:info@weecycle.org
END:VEVENT
BEGIN:VEVENT
DTSTART;TZID=America/Denver:20230828T090000
DTEND;TZID=America/Denver:20230831T170000
DTSTAMP:20260424T122743
CREATED:20230816T164332Z
LAST-MODIFIED:20230817T202900Z
UID:10000044-1693213200-1693501200@weecycle.org
SUMMARY:Pop-Up Gear Drive: Boulder Birth Center
DESCRIPTION:Bring your gently-used baby gear to our Pop-Up Gear Drive at the Boulder Birth Center. This multi-day gear drive will be held August 28th-August 31st from 9am-5pm each day. \nWe will only be accepting baby gear items for children ages 4 years old or younger. Thank you! \nPlease note: This is a Gear Collection Event. We will not be distributing diapers\, wipes or baby gear at this event.
URL:https://weecycle.org/event/boulder-birth-center-gear-drive/
LOCATION:Boulder Birth Center\, 2800 Folsom St\, Boulder\, CO\, 80304\, United States
CATEGORIES:Pop Up Gear
ORGANIZER;CN="WeeCycle":MAILTO:info@weecycle.org
END:VEVENT
BEGIN:VEVENT
DTSTART;TZID=America/Denver:20230827T110000
DTEND;TZID=America/Denver:20230827T170000
DTSTAMP:20260424T122743
CREATED:20230731T211635Z
LAST-MODIFIED:20230816T192916Z
UID:10000030-1693134000-1693155600@weecycle.org
SUMMARY:Clothing for All: Planet-Based Living Festival in Boulder
DESCRIPTION:Looking for a new-to-you wardrobe for your little one? Come join us at the Planet-Based Living Festival at the Boulder Bandshell & Central Park. Sift through extraordinary\, pre-loved clothing (newborn-2T) and keep them out of landfills by giving them another life!\nClothing for All is a pay as you are able donation-based event intended for those focused on being more environmentally conscious in their fashion choices. Please consider making a donation when you register today!
URL:https://weecycle.org/event/boulder-plant-based-living-festival/
LOCATION:Boulder Bandshell & Central Prk\, 1212 Canyon Blvd\, Boulder\, CO\, 80302\, United States
CATEGORIES:Clothing For All
ORGANIZER;CN="WeeCycle":MAILTO:info@weecycle.org
END:VEVENT
BEGIN:VEVENT
DTSTART;TZID=America/Denver:20230816T160000
DTEND;TZID=America/Denver:20230816T170000
DTSTAMP:20260424T122743
CREATED:20230724T191105Z
LAST-MODIFIED:20230817T200539Z
UID:10000023-1692201600-1692205200@weecycle.org
SUMMARY:Get Help: Colorado Springs - Care and Share Mobile Market - Academy School District 20
DESCRIPTION:If you need help with baby essentials like diapers\, wipes\, baby food or formula\, “Wee” are here to provide a helping hand- and our friends at Care and Share will have food available as well! Everything is free and available to anyone in need. This is an outdoor\, walk-up market so remember to bring a wagon/stroller/reusable bags to carry items.
URL:https://weecycle.org/event/colorado-springs-care-and-share-mobile-market-academy-school-district-20/
LOCATION:Academy School District 20\, 1110 Chapel Hills Drive\, Colorado Springs\, CO\, 80920\, United States
CATEGORIES:Distribution
ORGANIZER;CN="WeeCycle":MAILTO:info@weecycle.org
END:VEVENT
BEGIN:VEVENT
DTSTART;TZID=America/Denver:20230728T110000
DTEND;TZID=America/Denver:20230728T130000
DTSTAMP:20260424T122743
CREATED:20230629T180120Z
LAST-MODIFIED:20230727T033807Z
UID:10000007-1690542000-1690549200@weecycle.org
SUMMARY:Denver - Lalo Delgado
DESCRIPTION:
URL:https://weecycle.org/event/lalo-delgado-denver/
LOCATION:Lalo Delgado\, 3201 West Arizona Ave\, Denver\, CO\, United States
CATEGORIES:Distribution
END:VEVENT
BEGIN:VEVENT
DTSTART;TZID=America/Denver:20230726T143000
DTEND;TZID=America/Denver:20230726T160000
DTSTAMP:20260424T122743
CREATED:20230724T185348Z
LAST-MODIFIED:20230724T191924Z
UID:10000014-1690381800-1690387200@weecycle.org
SUMMARY:Broomfield - Centennial Elementary
DESCRIPTION:(Please note that the food provided by Community Food Shares is for Broomfield County Residents only\, WeeCycle will serve any Colorado County at this event)
URL:https://weecycle.org/event/broomfield/
LOCATION:Centennial Elementary\, 13200 Westlake Drive\, Broomfield\, CO\, 80020\, United States
CATEGORIES:Distribution
ORGANIZER;CN="WeeCycle":MAILTO:info@weecycle.org
END:VEVENT
BEGIN:VEVENT
DTSTART;TZID=America/Denver:20230725T143000
DTEND;TZID=America/Denver:20230725T160000
DTSTAMP:20260424T122743
CREATED:20230724T185219Z
LAST-MODIFIED:20230724T191757Z
UID:10000013-1690295400-1690300800@weecycle.org
SUMMARY:Denver - Garden Place Academy - Walk up
DESCRIPTION:
URL:https://weecycle.org/event/denver-walk-up/
LOCATION:Garden Place Academy\, 4425 Lincoln St\, Denver\, CO\, 80216\, United States
CATEGORIES:Distribution
ORGANIZER;CN="WeeCycle":MAILTO:info@weecycle.org
END:VEVENT
BEGIN:VEVENT
DTSTART;TZID=America/Denver:20230718T130000
DTEND;TZID=America/Denver:20230718T150000
DTSTAMP:20260424T122743
CREATED:20230712T160931Z
LAST-MODIFIED:20230713T173709Z
UID:10000009-1689685200-1689692400@weecycle.org
SUMMARY:WDW Mobile Market - Denver
DESCRIPTION:Details here.
URL:https://weecycle.org/event/wdw-mobile-market-denver/
LOCATION:Presentation of Our Lady\, 695 Julian St\, Denver\, 80204\, United States
CATEGORIES:Distribution
ORGANIZER;CN="WeeCycle":MAILTO:info@weecycle.org
END:VEVENT
BEGIN:VEVENT
DTSTART;TZID=America/Denver:20230714T143000
DTEND;TZID=America/Denver:20230714T153000
DTSTAMP:20260424T122743
CREATED:20230712T160628Z
LAST-MODIFIED:20230713T173716Z
UID:10000008-1689345000-1689348600@weecycle.org
SUMMARY:Colorado Springs
DESCRIPTION:insert any necessary details here.
URL:https://weecycle.org/event/colorado-springs/
LOCATION:Monroe Elementary\, 15 Chelton Rd\, Colorado Springs\, CO\, 80910\, United States
CATEGORIES:Distribution
ORGANIZER;CN="WeeCycle":MAILTO:info@weecycle.org
END:VEVENT
BEGIN:VEVENT
DTSTART;TZID=America/Denver:20230712T143000
DTEND;TZID=America/Denver:20230712T160000
DTSTAMP:20260424T122743
CREATED:20230629T175901Z
LAST-MODIFIED:20230713T173729Z
UID:10000006-1689172200-1689177600@weecycle.org
SUMMARY:Broomfield
DESCRIPTION:Please note that the food provided by Community Food Shares is for Broomfield County Residents only\, WeeCycle will serve any Colorado County at this event
URL:https://weecycle.org/event/broomfield-fish/
LOCATION:Centennial Elementary\, 13200 Westlake Drive\, Broomfield\, CO\, 80020\, United States
CATEGORIES:Distribution
ORGANIZER;CN="WeeCycle":MAILTO:info@weecycle.org
END:VEVENT
BEGIN:VEVENT
DTSTART;TZID=America/Denver:20230711T130000
DTEND;TZID=America/Denver:20230711T150000
DTSTAMP:20260424T122743
CREATED:20230628T184835Z
LAST-MODIFIED:20230713T173736Z
UID:10000005-1689080400-1689087600@weecycle.org
SUMMARY:WDW Mobile Market- Focus Points FRC
DESCRIPTION:Walk up and drive through location.\nPlease stay in your vehicle\, getting out during the distribution slows down the process.\nNo Documentation is required\nAll Items are given free of charge but not intended for resale\nAt each event we partner with food banks such as We Don’t Waste or Food Bank of the Rockies and there are often other partner organizations providing items as well.\nEach event is First Come First Serve while supplies last.
URL:https://weecycle.org/event/wdw-mobile-market-focus-points-frc/
LOCATION:Our Lady of Grace\, 2645 E. 48th Ave\, Denver\, CO\, 80216\, United States
CATEGORIES:Distribution
ORGANIZER;CN="WeeCycle":MAILTO:info@weecycle.org
END:VEVENT
BEGIN:VEVENT
DTSTART;TZID=America/Denver:20230707T130000
DTEND;TZID=America/Denver:20230707T150000
DTSTAMP:20260424T122743
CREATED:20230516T191905Z
LAST-MODIFIED:20230713T173743Z
UID:10000004-1688734800-1688742000@weecycle.org
SUMMARY:WDW Mobile Market - Sunnyside
DESCRIPTION:Most events are drive through (though there is always a walkup option)\nPlease stay in your vehicle\, getting out during the distribution slows down the process.\nNo Documentation is required\nAll Items are given free of charge but not intended for resale\nAt each event we partner with food banks such as We Don’t Waste or Food Bank of the Rockies and there are often other partner organizations providing items as well.\nEach event is First Come First Serve while supplies last.
URL:https://weecycle.org/event/direct-distribution-denver/
LOCATION:Strive Prep Sunnyside\, 4735 N. Pecos St\, Denver\, CO\, 80211\, United States
CATEGORIES:Distribution
ORGANIZER;CN="WeeCycle":MAILTO:info@weecycle.org
END:VEVENT
END:VCALENDAR