BEGIN:VCALENDAR
VERSION:2.0
PRODID:-//Weecycle - ECPv6.15.18//NONSGML v1.0//EN
CALSCALE:GREGORIAN
METHOD:PUBLISH
X-ORIGINAL-URL:https://weecycle.org
X-WR-CALDESC:Events for Weecycle
REFRESH-INTERVAL;VALUE=DURATION:PT1H
X-Robots-Tag:noindex
X-PUBLISHED-TTL:PT1H
BEGIN:VTIMEZONE
TZID:America/Denver
BEGIN:DAYLIGHT
TZOFFSETFROM:-0700
TZOFFSETTO:-0600
TZNAME:MDT
DTSTART:20240310T090000
END:DAYLIGHT
BEGIN:STANDARD
TZOFFSETFROM:-0600
TZOFFSETTO:-0700
TZNAME:MST
DTSTART:20241103T080000
END:STANDARD
BEGIN:DAYLIGHT
TZOFFSETFROM:-0700
TZOFFSETTO:-0600
TZNAME:MDT
DTSTART:20250309T090000
END:DAYLIGHT
BEGIN:STANDARD
TZOFFSETFROM:-0600
TZOFFSETTO:-0700
TZNAME:MST
DTSTART:20251102T080000
END:STANDARD
BEGIN:DAYLIGHT
TZOFFSETFROM:-0700
TZOFFSETTO:-0600
TZNAME:MDT
DTSTART:20260308T090000
END:DAYLIGHT
BEGIN:STANDARD
TZOFFSETFROM:-0600
TZOFFSETTO:-0700
TZNAME:MST
DTSTART:20261101T080000
END:STANDARD
BEGIN:DAYLIGHT
TZOFFSETFROM:-0700
TZOFFSETTO:-0600
TZNAME:MDT
DTSTART:20270314T090000
END:DAYLIGHT
BEGIN:STANDARD
TZOFFSETFROM:-0600
TZOFFSETTO:-0700
TZNAME:MST
DTSTART:20271107T080000
END:STANDARD
END:VTIMEZONE
BEGIN:VEVENT
DTSTART;TZID=America/Denver:20260403T110000
DTEND;TZID=America/Denver:20260403T130000
DTSTAMP:20260420T081853
CREATED:20260217T174329Z
LAST-MODIFIED:20260217T174329Z
UID:10000334-1775214000-1775221200@weecycle.org
SUMMARY:Get Help: Denver - National Western Complex *Reservation Required*
DESCRIPTION:*** This market now requires a reservation for pickup times.*** \n***When it is 24 hrs before the event you will be able to reserve a time at this link.***\nIf you need help with baby essentials like diapers\, wipes\, baby food or formula\, “Wee” are here to provide a helping hand- and our friends at We Don’t Waste will have food available as well! Everything is free and available to anyone in need. This is an outdoor\, pre-register market so remember to bring a wagon/stroller/reusable bags to carry items. \n  \n*** This market now requires a reservation for pickup times.*** \n***When it is 24 hrs before the event you will be able to reserve a time at this link.*** \n*
URL:https://weecycle.org/event/get-help-denver-national-western-complex-reservation-required-4/
LOCATION:National Western Complex\, 5115 Race Ct\, Denver\, 80216\, United States
CATEGORIES:Distribution
ORGANIZER;CN="WeeCycle":MAILTO:info@weecycle.org
END:VEVENT
BEGIN:VEVENT
DTSTART;TZID=America/Denver:20260306T110000
DTEND;TZID=America/Denver:20260306T130000
DTSTAMP:20260420T081853
CREATED:20260217T173121Z
LAST-MODIFIED:20260217T173121Z
UID:10000323-1772794800-1772802000@weecycle.org
SUMMARY:Get Help: Denver - National Western Complex *Reservation Required*
DESCRIPTION:*** This market now requires a reservation for pickup times.*** \n***When it is 24 hrs before the event you will be able to reserve a time at this link.***\nIf you need help with baby essentials like diapers\, wipes\, baby food or formula\, “Wee” are here to provide a helping hand- and our friends at We Don’t Waste will have food available as well! Everything is free and available to anyone in need. This is an outdoor\, pre-register market so remember to bring a wagon/stroller/reusable bags to carry items. \n  \n*** This market now requires a reservation for pickup times.*** \n***When it is 24 hrs before the event you will be able to reserve a time at this link.*** \n*
URL:https://weecycle.org/event/get-help-denver-national-western-complex-reservation-required-3/
LOCATION:National Western Complex\, 5115 Race Ct\, Denver\, 80216\, United States
CATEGORIES:Distribution
ORGANIZER;CN="WeeCycle":MAILTO:info@weecycle.org
END:VEVENT
BEGIN:VEVENT
DTSTART;TZID=America/Denver:20260206T110000
DTEND;TZID=America/Denver:20260206T130000
DTSTAMP:20260420T081853
CREATED:20260116T161456Z
LAST-MODIFIED:20260120T170606Z
UID:10000311-1770375600-1770382800@weecycle.org
SUMMARY:Get Help: Denver - National Western Complex *Reservation Required*
DESCRIPTION:*** This market now requires a reservation for pickup times.*** \n***When it is 24 hrs before the event you will be able to reserve a time at this link.***\nIf you need help with baby essentials like diapers\, wipes\, baby food or formula\, “Wee” are here to provide a helping hand- and our friends at We Don’t Waste will have food available as well! Everything is free and available to anyone in need. This is an outdoor\, pre-register market so remember to bring a wagon/stroller/reusable bags to carry items. \n  \n*** This market now requires a reservation for pickup times.*** \n***When it is 24 hrs before the event you will be able to reserve a time at this link.*** \n*
URL:https://weecycle.org/event/get-help-denver-national-western-complex-reservation-required-2/
LOCATION:National Western Complex\, 5115 Race Ct\, Denver\, 80216\, United States
CATEGORIES:Distribution
ORGANIZER;CN="WeeCycle":MAILTO:info@weecycle.org
END:VEVENT
BEGIN:VEVENT
DTSTART;TZID=America/Denver:20251205T110000
DTEND;TZID=America/Denver:20251205T130000
DTSTAMP:20260420T081853
CREATED:20251120T201948Z
LAST-MODIFIED:20251120T202009Z
UID:10000291-1764932400-1764939600@weecycle.org
SUMMARY:Get Help: Denver - National Western Complex *Reservation Required*
DESCRIPTION:If you need help with baby essentials like diapers\, wipes\, baby food or formula\, “Wee” are here to provide a helping hand- and our friends at We Don’t Waste will have food available as well! Everything is free and available to anyone in need. This is an outdoor\, pre-register market so remember to bring a wagon/stroller/reusable bags to carry items. \n  \n*** This market now requires a reservation for pickup times.*** \n***When it is 24 hrs before the event you will be able to reserve a time at this link.***
URL:https://weecycle.org/event/get-help-denver-national-western-complex-reservation-required/
LOCATION:National Western Complex\, 5115 Race Ct\, Denver\, 80216\, United States
CATEGORIES:Distribution
ORGANIZER;CN="WeeCycle":MAILTO:info@weecycle.org
END:VEVENT
BEGIN:VEVENT
DTSTART;TZID=America/Denver:20251107T110000
DTEND;TZID=America/Denver:20251107T130000
DTSTAMP:20260420T081853
CREATED:20251023T183220Z
LAST-MODIFIED:20251023T183220Z
UID:10000268-1762513200-1762520400@weecycle.org
SUMMARY:Get Help: Denver - National Western Complex
DESCRIPTION:If you need help with baby essentials like diapers\, wipes\, baby food or formula\, “Wee” are here to provide a helping hand- and our friends at We Don’t Waste will have food available as well! Everything is free and available to anyone in need. This is an outdoor\, pre-register market so remember to bring a wagon/stroller/reusable bags to carry items. \n  \n*** This market now requires a reservation for pickup times.*** \n***When it is 24 hrs before the event you will be able to reserve a time at this link.***
URL:https://weecycle.org/event/get-help-denver-national-western-complex-6/
LOCATION:National Western Complex\, 5115 Race Ct\, Denver\, 80216\, United States
CATEGORIES:Distribution
ORGANIZER;CN="WeeCycle":MAILTO:info@weecycle.org
END:VEVENT
BEGIN:VEVENT
DTSTART;TZID=America/Denver:20251003T110000
DTEND;TZID=America/Denver:20251003T130000
DTSTAMP:20260420T081853
CREATED:20250917T194934Z
LAST-MODIFIED:20250917T194934Z
UID:10000245-1759489200-1759496400@weecycle.org
SUMMARY:Get Help: Denver - National Western Complex
DESCRIPTION:If you need help with baby essentials like diapers\, wipes\, baby food or formula\, “Wee” are here to provide a helping hand- and our friends at We Don’t Waste will have food available as well! Everything is free and available to anyone in need. This is an outdoor\, pre-register market so remember to bring a wagon/stroller/reusable bags to carry items. \n  \n*** This market now requires a reservation for pickup times.*** \n***When it is 24 hrs before the event you will be able to reserve a time at this link.***
URL:https://weecycle.org/event/get-help-denver-national-western-complex-5/
LOCATION:National Western Complex\, 5115 Race Ct\, Denver\, 80216\, United States
CATEGORIES:Distribution
ORGANIZER;CN="WeeCycle":MAILTO:info@weecycle.org
END:VEVENT
BEGIN:VEVENT
DTSTART;TZID=America/Denver:20250801T110000
DTEND;TZID=America/Denver:20250801T130000
DTSTAMP:20260420T081853
CREATED:20250707T201300Z
LAST-MODIFIED:20250707T201300Z
UID:10000206-1754046000-1754053200@weecycle.org
SUMMARY:Get Help: Denver - National Western Complex
DESCRIPTION:If you need help with baby essentials like diapers\, wipes\, baby food or formula\, “Wee” are here to provide a helping hand- and our friends at We Don’t Waste will have food available as well! Everything is free and available to anyone in need. This is an outdoor\, pre-register market so remember to bring a wagon/stroller/reusable bags to carry items. \n  \n*** This market now requires a reservation for pickup times.*** \n***When it is 24 hrs before the event you will be able to reserve a time at this link.***
URL:https://weecycle.org/event/get-help-denver-national-western-complex-4/
LOCATION:National Western Complex\, 5115 Race Ct\, Denver\, 80216\, United States
CATEGORIES:Distribution
ORGANIZER;CN="WeeCycle":MAILTO:info@weecycle.org
END:VEVENT
BEGIN:VEVENT
DTSTART;TZID=America/Denver:20250606T110000
DTEND;TZID=America/Denver:20250606T130000
DTSTAMP:20260420T081853
CREATED:20250506T210519Z
LAST-MODIFIED:20250506T210519Z
UID:10000184-1749207600-1749214800@weecycle.org
SUMMARY:Get Help: Denver - National Western Complex
DESCRIPTION:If you need help with baby essentials like diapers\, wipes\, baby food or formula\, “Wee” are here to provide a helping hand- and our friends at We Don’t Waste will have food available as well! Everything is free and available to anyone in need. This is an outdoor\, pre-register market so remember to bring a wagon/stroller/reusable bags to carry items. \n  \n*** This market now requires a reservation for pickup times.*** \n***When it is 24 hrs before the event you will be able to reserve a time at this link.***
URL:https://weecycle.org/event/get-help-denver-national-western-complex-3/
LOCATION:National Western Complex\, 5115 Race Ct\, Denver\, 80216\, United States
CATEGORIES:Distribution
ORGANIZER;CN="WeeCycle":MAILTO:info@weecycle.org
END:VEVENT
BEGIN:VEVENT
DTSTART;TZID=America/Denver:20250502T110000
DTEND;TZID=America/Denver:20250502T130000
DTSTAMP:20260420T081853
CREATED:20250416T173558Z
LAST-MODIFIED:20250416T173558Z
UID:10000171-1746183600-1746190800@weecycle.org
SUMMARY:Get Help: Denver - National Western Complex
DESCRIPTION:If you need help with baby essentials like diapers\, wipes\, baby food or formula\, “Wee” are here to provide a helping hand- and our friends at We Don’t Waste will have food available as well! Everything is free and available to anyone in need. This is an outdoor\, pre-register market so remember to bring a wagon/stroller/reusable bags to carry items. \n  \n*** This market now requires a reservation for pickup times.*** \n***When it is 24 hrs before the event you will be able to reserve a time at this link.***
URL:https://weecycle.org/event/get-help-denver-national-western-complex-2/
LOCATION:National Western Complex\, 5115 Race Ct\, Denver\, 80216\, United States
CATEGORIES:Distribution
ORGANIZER;CN="WeeCycle":MAILTO:info@weecycle.org
END:VEVENT
BEGIN:VEVENT
DTSTART;TZID=America/Denver:20250404T110000
DTEND;TZID=America/Denver:20250404T130000
DTSTAMP:20260420T081853
CREATED:20250225T214337Z
LAST-MODIFIED:20250306T185521Z
UID:10000152-1743764400-1743771600@weecycle.org
SUMMARY:Get Help: Denver - National Western Complex
DESCRIPTION:If you need help with baby essentials like diapers\, wipes\, baby food or formula\, “Wee” are here to provide a helping hand- and our friends at We Don’t Waste will have food available as well! Everything is free and available to anyone in need. This is an outdoor\, pre-register market so remember to bring a wagon/stroller/reusable bags to carry items. \n  \n*** This market now requires a reservation for pickup times.*** \n***When it is 24 hrs before the event you will be able to reserve a time at this link.***
URL:https://weecycle.org/event/get-help-denver-national-western-complex/
LOCATION:National Western Complex\, 5115 Race Ct\, Denver\, 80216\, United States
CATEGORIES:Distribution
ORGANIZER;CN="WeeCycle":MAILTO:info@weecycle.org
END:VEVENT
BEGIN:VEVENT
DTSTART;TZID=America/Denver:20250307T110000
DTEND;TZID=America/Denver:20250307T130000
DTSTAMP:20260420T081853
CREATED:20250225T211636Z
LAST-MODIFIED:20250306T185718Z
UID:10000141-1741345200-1741352400@weecycle.org
SUMMARY:Get Help: Denver - National Western Complex
DESCRIPTION:If you need help with baby essentials like diapers\, wipes\, baby food or formula\, “Wee” are here to provide a helping hand- and our friends at We Don’t Waste will have food available as well! Everything is free and available to anyone in need. This is an outdoor\, pre-register market so remember to bring a wagon/stroller/reusable bags to carry items. \n  \n*** This market now requires a reservation for pickup times.*** \n***When it is 24 hrs before the event you will be able to reserve a time at this link.***
URL:https://weecycle.org/event/get-help-nwc-10/
LOCATION:National Western Complex\, 5115 Race Ct\, Denver\, 80216\, United States
CATEGORIES:Distribution
ORGANIZER;CN="WeeCycle":MAILTO:info@weecycle.org
END:VEVENT
END:VCALENDAR