BEGIN:VCALENDAR
VERSION:2.0
PRODID:-//Weecycle - ECPv6.15.18//NONSGML v1.0//EN
CALSCALE:GREGORIAN
METHOD:PUBLISH
X-ORIGINAL-URL:https://weecycle.org
X-WR-CALDESC:Events for Weecycle
REFRESH-INTERVAL;VALUE=DURATION:PT1H
X-Robots-Tag:noindex
X-PUBLISHED-TTL:PT1H
BEGIN:VTIMEZONE
TZID:America/Denver
BEGIN:DAYLIGHT
TZOFFSETFROM:-0700
TZOFFSETTO:-0600
TZNAME:MDT
DTSTART:20230312T090000
END:DAYLIGHT
BEGIN:STANDARD
TZOFFSETFROM:-0600
TZOFFSETTO:-0700
TZNAME:MST
DTSTART:20231105T080000
END:STANDARD
BEGIN:DAYLIGHT
TZOFFSETFROM:-0700
TZOFFSETTO:-0600
TZNAME:MDT
DTSTART:20240310T090000
END:DAYLIGHT
BEGIN:STANDARD
TZOFFSETFROM:-0600
TZOFFSETTO:-0700
TZNAME:MST
DTSTART:20241103T080000
END:STANDARD
BEGIN:DAYLIGHT
TZOFFSETFROM:-0700
TZOFFSETTO:-0600
TZNAME:MDT
DTSTART:20250309T090000
END:DAYLIGHT
BEGIN:STANDARD
TZOFFSETFROM:-0600
TZOFFSETTO:-0700
TZNAME:MST
DTSTART:20251102T080000
END:STANDARD
BEGIN:DAYLIGHT
TZOFFSETFROM:-0700
TZOFFSETTO:-0600
TZNAME:MDT
DTSTART:20260308T090000
END:DAYLIGHT
BEGIN:STANDARD
TZOFFSETFROM:-0600
TZOFFSETTO:-0700
TZNAME:MST
DTSTART:20261101T080000
END:STANDARD
BEGIN:DAYLIGHT
TZOFFSETFROM:-0700
TZOFFSETTO:-0600
TZNAME:MDT
DTSTART:20270314T090000
END:DAYLIGHT
BEGIN:STANDARD
TZOFFSETFROM:-0600
TZOFFSETTO:-0700
TZNAME:MST
DTSTART:20271107T080000
END:STANDARD
END:VTIMEZONE
BEGIN:VEVENT
DTSTART;TZID=America/Denver:20260418T124500
DTEND;TZID=America/Denver:20260418T150000
DTSTAMP:20260424T094537
CREATED:20260217T174911Z
LAST-MODIFIED:20260217T174911Z
UID:10000340-1776516300-1776524400@weecycle.org
SUMMARY:Get Help: Aurora - North Middle School *Reservation Required*
DESCRIPTION:*** This market now requires a reservation for pickup times.*** \n***When it is 24 hrs before the event you will be able to reserve a time at this link.***\nIf you need help with baby essentials like diapers\, wipes\, baby food or formula\, “Wee” are here to provide a helping hand- and our friends at We Don’t Waste will have food available as well! Everything is free and available to anyone in need. This is an outdoor\, pre-register market so remember to bring a wagon/stroller/reusable bags to carry items. \n  \n*** This market now requires a reservation for pickup times.*** \n***When it is 24 hrs before the event you will be able to reserve a time at this link.*** \n*
URL:https://weecycle.org/event/get-help-aurora-north-middle-school-reservation-required-5/
LOCATION:North Middle School\, 12095 E. Montview Blvd\, Aurora\, CO\, 80010\, United States
CATEGORIES:Distribution
ORGANIZER;CN="WeeCycle":MAILTO:info@weecycle.org
END:VEVENT
BEGIN:VEVENT
DTSTART;TZID=America/Denver:20260321T124500
DTEND;TZID=America/Denver:20260321T150000
DTSTAMP:20260424T094537
CREATED:20260217T173724Z
LAST-MODIFIED:20260217T173724Z
UID:10000329-1774097100-1774105200@weecycle.org
SUMMARY:Get Help: Aurora - North Middle School *Reservation Required*
DESCRIPTION:*** This market now requires a reservation for pickup times.*** \n***When it is 24 hrs before the event you will be able to reserve a time at this link.***\nIf you need help with baby essentials like diapers\, wipes\, baby food or formula\, “Wee” are here to provide a helping hand- and our friends at We Don’t Waste will have food available as well! Everything is free and available to anyone in need. This is an outdoor\, pre-register market so remember to bring a wagon/stroller/reusable bags to carry items. \n  \n*** This market now requires a reservation for pickup times.*** \n***When it is 24 hrs before the event you will be able to reserve a time at this link.*** \n*
URL:https://weecycle.org/event/get-help-aurora-north-middle-school-reservation-required-4/
LOCATION:North Middle School\, 12095 E. Montview Blvd\, Aurora\, CO\, 80010\, United States
CATEGORIES:Distribution
ORGANIZER;CN="WeeCycle":MAILTO:info@weecycle.org
END:VEVENT
BEGIN:VEVENT
DTSTART;TZID=America/Denver:20260221T124500
DTEND;TZID=America/Denver:20260221T150000
DTSTAMP:20260424T094537
CREATED:20260116T163903Z
LAST-MODIFIED:20260120T171239Z
UID:10000318-1771677900-1771686000@weecycle.org
SUMMARY:Get Help: Aurora - North Middle School *Reservation Required*
DESCRIPTION:*** This market now requires a reservation for pickup times.*** \n***When it is 24 hrs before the event you will be able to reserve a time at this link.***\nIf you need help with baby essentials like diapers\, wipes\, baby food or formula\, “Wee” are here to provide a helping hand- and our friends at We Don’t Waste will have food available as well! Everything is free and available to anyone in need. This is an outdoor\, pre-register market so remember to bring a wagon/stroller/reusable bags to carry items. \n  \n*** This market now requires a reservation for pickup times.*** \n***When it is 24 hrs before the event you will be able to reserve a time at this link.*** \n*
URL:https://weecycle.org/event/get-help-aurora-north-middle-school-reservation-required-2/
LOCATION:North Middle School\, 12095 E. Montview Blvd\, Aurora\, CO\, 80010\, United States
CATEGORIES:Distribution
ORGANIZER;CN="WeeCycle":MAILTO:info@weecycle.org
END:VEVENT
BEGIN:VEVENT
DTSTART;TZID=America/Denver:20260117T124500
DTEND;TZID=America/Denver:20260117T150000
DTSTAMP:20260424T094537
CREATED:20260112T162822Z
LAST-MODIFIED:20260112T162822Z
UID:10000308-1768653900-1768662000@weecycle.org
SUMMARY:Get Help: Aurora - North Middle School *Reservation Required*
DESCRIPTION:*** This market now requires a reservation for pickup times.*** \n***When it is 24 hrs before the event you will be able to reserve a time at this link.***\nIf you need help with baby essentials like diapers\, wipes\, baby food or formula\, “Wee” are here to provide a helping hand- and our friends at We Don’t Waste will have food available as well! Everything is free and available to anyone in need. This is an outdoor\, pre-register market so remember to bring a wagon/stroller/reusable bags to carry items. \n  \n*** This market now requires a reservation for pickup times.*** \n***When it is 24 hrs before the event you will be able to reserve a time at this link.***
URL:https://weecycle.org/event/get-help-aurora-north-middle-school-reservation-required-3/
LOCATION:North Middle School\, 12095 E. Montview Blvd\, Aurora\, CO\, 80010\, United States
CATEGORIES:Distribution
ORGANIZER;CN="WeeCycle":MAILTO:info@weecycle.org
END:VEVENT
BEGIN:VEVENT
DTSTART;TZID=America/Denver:20251220T124500
DTEND;TZID=America/Denver:20251220T150000
DTSTAMP:20260424T094537
CREATED:20251120T202456Z
LAST-MODIFIED:20251217T213218Z
UID:10000295-1766234700-1766242800@weecycle.org
SUMMARY:Get Help: Aurora - North Middle School *Reservation Required*
DESCRIPTION:*** This market now requires a reservation for pickup times.*** \n***When it is 24 hrs before the event you will be able to reserve a time at this link.***\nIf you need help with baby essentials like diapers\, wipes\, baby food or formula\, “Wee” are here to provide a helping hand- and our friends at We Don’t Waste will have food available as well! Everything is free and available to anyone in need. This is an outdoor\, pre-register market so remember to bring a wagon/stroller/reusable bags to carry items. \n  \n*** This market now requires a reservation for pickup times.*** \n***When it is 24 hrs before the event you will be able to reserve a time at this link.***
URL:https://weecycle.org/event/get-help-aurora-north-middle-school-reservation-required/
LOCATION:North Middle School\, 12095 E. Montview Blvd\, Aurora\, CO\, 80010\, United States
CATEGORIES:Distribution
ORGANIZER;CN="WeeCycle":MAILTO:info@weecycle.org
END:VEVENT
BEGIN:VEVENT
DTSTART;TZID=America/Denver:20251122T120000
DTEND;TZID=America/Denver:20251122T150000
DTSTAMP:20260424T094537
CREATED:20251023T190443Z
LAST-MODIFIED:20251120T201601Z
UID:10000275-1763812800-1763823600@weecycle.org
SUMMARY:Get Help: Aurora - North Middle School *Reservation Required*
DESCRIPTION:*** This market now requires a reservation for pickup times.*** \n***When it is 24 hrs before the event you will be able to reserve a time at this link.***\nIf you need help with baby essentials like diapers\, wipes\, baby food or formula\, “Wee” are here to provide a helping hand- and our friends at We Don’t Waste will have food available as well! Everything is free and available to anyone in need. This is an outdoor\, pre-register market so remember to bring a wagon/stroller/reusable bags to carry items. \n  \n*** This market now requires a reservation for pickup times.*** \n***When it is 24 hrs before the event you will be able to reserve a time at this link.***
URL:https://weecycle.org/event/get-help-aurora-north-middle-school-14/
LOCATION:North Middle School\, 12095 E. Montview Blvd\, Aurora\, CO\, 80010\, United States
CATEGORIES:Distribution
ORGANIZER;CN="WeeCycle":MAILTO:info@weecycle.org
END:VEVENT
BEGIN:VEVENT
DTSTART;TZID=America/Denver:20251018T130000
DTEND;TZID=America/Denver:20251018T150000
DTSTAMP:20260424T094537
CREATED:20250917T200233Z
LAST-MODIFIED:20250917T200233Z
UID:10000251-1760792400-1760799600@weecycle.org
SUMMARY:Get Help: Aurora - North Middle School
DESCRIPTION:*** This market now requires a reservation for pickup times.*** \n***When it is 24 hrs before the event you will be able to reserve a time at this link.***\nIf you need help with baby essentials like diapers\, wipes\, baby food or formula\, “Wee” are here to provide a helping hand- and our friends at We Don’t Waste will have food available as well! Everything is free and available to anyone in need. This is an outdoor\, pre-register market so remember to bring a wagon/stroller/reusable bags to carry items. \n  \n*** This market now requires a reservation for pickup times.*** \n***When it is 24 hrs before the event you will be able to reserve a time at this link.***
URL:https://weecycle.org/event/get-help-aurora-north-middle-school-13/
LOCATION:North Middle School\, 12095 E. Montview Blvd\, Aurora\, CO\, 80010\, United States
CATEGORIES:Distribution
ORGANIZER;CN="WeeCycle":MAILTO:info@weecycle.org
END:VEVENT
BEGIN:VEVENT
DTSTART;TZID=America/Denver:20250920T130000
DTEND;TZID=America/Denver:20250920T150000
DTSTAMP:20260424T094537
CREATED:20250807T200730Z
LAST-MODIFIED:20250811T151341Z
UID:10000227-1758373200-1758380400@weecycle.org
SUMMARY:Get Help: Aurora - North Middle School
DESCRIPTION:*** This market now requires a reservation for pickup times.*** \n***When it is 24 hrs before the event you will be able to reserve a time at this link.***\nIf you need help with baby essentials like diapers\, wipes\, baby food or formula\, “Wee” are here to provide a helping hand- and our friends at We Don’t Waste will have food available as well! Everything is free and available to anyone in need. This is an outdoor\, pre-register market so remember to bring a wagon/stroller/reusable bags to carry items. \n  \n*** This market now requires a reservation for pickup times.*** \n***When it is 24 hrs before the event you will be able to reserve a time at this link.***
URL:https://weecycle.org/event/get-help-aurora-north-middle-school-12/
LOCATION:North Middle School\, 12095 E. Montview Blvd\, Aurora\, CO\, 80010\, United States
CATEGORIES:Distribution
ORGANIZER;CN="WeeCycle":MAILTO:info@weecycle.org
END:VEVENT
BEGIN:VEVENT
DTSTART;TZID=America/Denver:20250816T130000
DTEND;TZID=America/Denver:20250816T150000
DTSTAMP:20260424T094537
CREATED:20250707T203739Z
LAST-MODIFIED:20250811T151821Z
UID:10000213-1755349200-1755356400@weecycle.org
SUMMARY:Get Help: Aurora - North Middle School
DESCRIPTION:*** This market now requires a reservation for pickup times.*** \n***When it is 24 hrs before the event you will be able to reserve a time at this link.***\nIf you need help with baby essentials like diapers\, wipes\, baby food or formula\, “Wee” are here to provide a helping hand- and our friends at We Don’t Waste will have food available as well! Everything is free and available to anyone in need. This is an outdoor\, pre-register market so remember to bring a wagon/stroller/reusable bags to carry items. \n  \n*** This market now requires a reservation for pickup times.*** \n***When it is 24 hrs before the event you will be able to reserve a time at this link.***
URL:https://weecycle.org/event/get-help-aurora-north-middle-school-11/
LOCATION:North Middle School\, 12095 E. Montview Blvd\, Aurora\, CO\, 80010\, United States
CATEGORIES:Distribution
ORGANIZER;CN="WeeCycle":MAILTO:info@weecycle.org
END:VEVENT
BEGIN:VEVENT
DTSTART;TZID=America/Denver:20250719T130000
DTEND;TZID=America/Denver:20250719T150000
DTSTAMP:20260424T094537
CREATED:20250613T185606Z
LAST-MODIFIED:20250613T185606Z
UID:10000202-1752930000-1752937200@weecycle.org
SUMMARY:Get Help: Aurora - North Middle School
DESCRIPTION:If you need help with baby essentials like diapers\, wipes\, baby food or formula\, “Wee” are here to provide a helping hand- and our friends at We Don’t Waste will have food available as well! Everything is free and available to anyone in need. This is an outdoor\, pre-register market so remember to bring a wagon/stroller/reusable bags to carry items. \n  \n*** This market now requires a reservation for pickup times.*** \n***When it is 24 hrs before the event you will be able to reserve a time at this link.***
URL:https://weecycle.org/event/get-help-aurora-north-middle-school-10/
LOCATION:North Middle School\, 12095 E. Montview Blvd\, Aurora\, CO\, 80010\, United States
CATEGORIES:Distribution
ORGANIZER;CN="WeeCycle":MAILTO:info@weecycle.org
END:VEVENT
BEGIN:VEVENT
DTSTART;TZID=America/Denver:20250621T130000
DTEND;TZID=America/Denver:20250621T150000
DTSTAMP:20260424T094537
CREATED:20250506T211750Z
LAST-MODIFIED:20250618T161508Z
UID:10000191-1750510800-1750518000@weecycle.org
SUMMARY:CANCELLED***Get Help: Aurora - North Middle School***CANCELLED
DESCRIPTION:This event has been cancelled due to high temperatures (High 90’s to 100’s). \nIf you need help with baby essentials like diapers\, wipes\, baby food or formula\, “Wee” are here to provide a helping hand- and our friends at We Don’t Waste will have food available as well! Everything is free and available to anyone in need. This is an outdoor\, pre-register market so remember to bring a wagon/stroller/reusable bags to carry items. \n  \n*** This market now requires a reservation for pickup times.*** \n***When it is 24 hrs before the event you will be able to reserve a time at this link.***
URL:https://weecycle.org/event/get-help-aurora-north-middle-school-9/
LOCATION:North Middle School\, 12095 E. Montview Blvd\, Aurora\, CO\, 80010\, United States
CATEGORIES:Distribution
ORGANIZER;CN="WeeCycle":MAILTO:info@weecycle.org
END:VEVENT
BEGIN:VEVENT
DTSTART;TZID=America/Denver:20250517T130000
DTEND;TZID=America/Denver:20250517T150000
DTSTAMP:20260424T094537
CREATED:20250416T174608Z
LAST-MODIFIED:20250416T174608Z
UID:10000178-1747486800-1747494000@weecycle.org
SUMMARY:Get Help: Aurora - North Middle School
DESCRIPTION:If you need help with baby essentials like diapers\, wipes\, baby food or formula\, “Wee” are here to provide a helping hand- and our friends at We Don’t Waste will have food available as well! Everything is free and available to anyone in need. This is an outdoor\, pre-register market so remember to bring a wagon/stroller/reusable bags to carry items. \n  \n*** This market now requires a reservation for pickup times.*** \n***When it is 24 hrs before the event you will be able to reserve a time at this link.***
URL:https://weecycle.org/event/get-help-aurora-north-middle-school-8/
LOCATION:North Middle School\, 12095 E. Montview Blvd\, Aurora\, CO\, 80010\, United States
CATEGORIES:Distribution
ORGANIZER;CN="WeeCycle":MAILTO:info@weecycle.org
END:VEVENT
BEGIN:VEVENT
DTSTART;TZID=America/Denver:20250419T130000
DTEND;TZID=America/Denver:20250419T150000
DTSTAMP:20260424T094537
CREATED:20250225T215241Z
LAST-MODIFIED:20250225T215241Z
UID:10000158-1745067600-1745074800@weecycle.org
SUMMARY:Get Help: Aurora - North Middle School
DESCRIPTION:If you need help with baby essentials like diapers\, wipes\, baby food or formula\, “Wee” are here to provide a helping hand- and our friends at We Don’t Waste will have food available as well! Everything is free and available to anyone in need. This is an outdoor\, pre-register market so remember to bring a wagon/stroller/reusable bags to carry items. \n  \n*** This market now requires a reservation for pickup times.*** \n***When it is 24 hrs before the event you will be able to reserve a time at this link.***
URL:https://weecycle.org/event/get-help-aurora-north-middle-school-7/
LOCATION:North Middle School\, 12095 E. Montview Blvd\, Aurora\, CO\, 80010\, United States
CATEGORIES:Distribution
ORGANIZER;CN="WeeCycle":MAILTO:info@weecycle.org
END:VEVENT
BEGIN:VEVENT
DTSTART;TZID=America/Denver:20250322T130000
DTEND;TZID=America/Denver:20250322T150000
DTSTAMP:20260424T094537
CREATED:20250225T213845Z
LAST-MODIFIED:20250225T213845Z
UID:10000148-1742648400-1742655600@weecycle.org
SUMMARY:Get Help: Aurora - North Middle School
DESCRIPTION:If you need help with baby essentials like diapers\, wipes\, baby food or formula\, “Wee” are here to provide a helping hand- and our friends at We Don’t Waste will have food available as well! Everything is free and available to anyone in need. This is an outdoor\, pre-register market so remember to bring a wagon/stroller/reusable bags to carry items. \n  \n*** This market now requires a reservation for pickup times.*** \n***When it is 24 hrs before the event you will be able to reserve a time at this link.***
URL:https://weecycle.org/event/get-help-aurora-north-middle-school-6/
LOCATION:North Middle School\, 12095 E. Montview Blvd\, Aurora\, CO\, 80010\, United States
CATEGORIES:Distribution
ORGANIZER;CN="WeeCycle":MAILTO:info@weecycle.org
END:VEVENT
BEGIN:VEVENT
DTSTART;TZID=America/Denver:20250222T130000
DTEND;TZID=America/Denver:20250222T150000
DTSTAMP:20260424T094537
CREATED:20250124T190943Z
LAST-MODIFIED:20250124T190943Z
UID:10000135-1740229200-1740236400@weecycle.org
SUMMARY:Get Help: Aurora - North Middle School
DESCRIPTION:If you need help with baby essentials like diapers\, wipes\, baby food or formula\, “Wee” are here to provide a helping hand- and our friends at We Don’t Waste will have food available as well! Everything is free and available to anyone in need. This is an outdoor\, pre-register market so remember to bring a wagon/stroller/reusable bags to carry items. \n  \n*** This market now requires a reservation for pickup times.*** \n***When it is 24 hrs before the event you will be able to reserve a time at this link.***
URL:https://weecycle.org/event/get-help-aurora-north-middle-school-5/
LOCATION:North Middle School\, 12095 E. Montview Blvd\, Aurora\, CO\, 80010\, United States
CATEGORIES:Distribution
ORGANIZER;CN="WeeCycle":MAILTO:info@weecycle.org
END:VEVENT
BEGIN:VEVENT
DTSTART;TZID=America/Denver:20250118T130000
DTEND;TZID=America/Denver:20250118T150000
DTSTAMP:20260424T094537
CREATED:20241220T222915Z
LAST-MODIFIED:20250124T190902Z
UID:10000122-1737205200-1737212400@weecycle.org
SUMMARY:Get Help: Aurora - North Middle School
DESCRIPTION:If you need help with baby essentials like diapers\, wipes\, baby food or formula\, “Wee” are here to provide a helping hand- and our friends at We Don’t Waste will have food available as well! Everything is free and available to anyone in need. This is an outdoor\, pre-register market so remember to bring a wagon/stroller/reusable bags to carry items. \n  \n*** This market now requires a reservation for pickup times.*** \n***When it is 24 hrs before the event you will be able to reserve a time at this link.***
URL:https://weecycle.org/event/get-help-aurora-north-middle-school-4/
LOCATION:North Middle School\, 12095 E. Montview Blvd\, Aurora\, CO\, 80010\, United States
CATEGORIES:Distribution
ORGANIZER;CN="WeeCycle":MAILTO:info@weecycle.org
END:VEVENT
BEGIN:VEVENT
DTSTART;TZID=America/Denver:20241221T130000
DTEND;TZID=America/Denver:20241221T150000
DTSTAMP:20260424T094537
CREATED:20241115T231618Z
LAST-MODIFIED:20241115T231618Z
UID:10000114-1734786000-1734793200@weecycle.org
SUMMARY:Get Help: Aurora - North Middle School
DESCRIPTION:If you need help with baby essentials like diapers\, wipes\, baby food or formula\, “Wee” are here to provide a helping hand- and our friends at We Don’t Waste will have food available as well! Everything is free and available to anyone in need. This is an outdoor\, walk-up market so remember to bring a wagon/stroller/reusable bags to carry items. \n  \nGet the Plentiful app: https://plntfl.app/l/app\, create a profile\, and search for WDW on the map or in the list view to register! Or text WDW to 726879. Please register in advance to help make the check-in/pick-up process faster!
URL:https://weecycle.org/event/get-help-aurora-north-middle-school-3/
LOCATION:North Middle School\, 12095 E. Montview Blvd\, Aurora\, CO\, 80010\, United States
CATEGORIES:Distribution
ORGANIZER;CN="WeeCycle":MAILTO:info@weecycle.org
END:VEVENT
BEGIN:VEVENT
DTSTART;TZID=America/Denver:20241116T130000
DTEND;TZID=America/Denver:20241116T150000
DTSTAMP:20260424T094537
CREATED:20240603T185618Z
LAST-MODIFIED:20241016T230340Z
UID:10000068-1731762000-1731769200@weecycle.org
SUMMARY:Get Help: Aurora - North Middle School
DESCRIPTION:If you need help with baby essentials like diapers\, wipes\, baby food or formula\, “Wee” are here to provide a helping hand- and our friends at We Don’t Waste will have food available as well! Everything is free and available to anyone in need. This is an outdoor\, walk-up market so remember to bring a wagon/stroller/reusable bags to carry items. \n  \nGet the Plentiful app: https://plntfl.app/l/app\, create a profile\, and search for WDW on the map or in the list view to register! Or text WDW to 726879. Please register in advance to help make the check-in/pick-up process faster!
URL:https://weecycle.org/event/get-help-aurora-north-middle-school/
LOCATION:North Middle School\, 12095 E. Montview Blvd\, Aurora\, CO\, 80010\, United States
CATEGORIES:Distribution
ORGANIZER;CN="WeeCycle":MAILTO:info@weecycle.org
END:VEVENT
BEGIN:VEVENT
DTSTART;TZID=America/Denver:20241019T130000
DTEND;TZID=America/Denver:20241019T150000
DTSTAMP:20260424T094537
CREATED:20240912T190116Z
LAST-MODIFIED:20240912T190116Z
UID:10000094-1729342800-1729350000@weecycle.org
SUMMARY:Get Help: Aurora - North Middle School
DESCRIPTION:If you need help with baby essentials like diapers\, wipes\, baby food or formula\, “Wee” are here to provide a helping hand- and our friends at We Don’t Waste will have food available as well! Everything is free and available to anyone in need. This is an outdoor\, walk-up market so remember to bring a wagon/stroller/reusable bags to carry items. \n  \nGet the Plentiful app: https://plntfl.app/l/app\, create a profile\, and search for WDW on the map or in the list view to register! Or text WDW to 726879. Please register in advance to help make the check-in/pick-up process faster!
URL:https://weecycle.org/event/get-help-aurora-north-middle-school-2/
LOCATION:North Middle School\, 12095 E. Montview Blvd\, Aurora\, CO\, 80010\, United States
CATEGORIES:Distribution
ORGANIZER;CN="WeeCycle":MAILTO:info@weecycle.org
END:VEVENT
BEGIN:VEVENT
DTSTART;TZID=America/Denver:20240518T130000
DTEND;TZID=America/Denver:20240518T150000
DTSTAMP:20260424T094537
CREATED:20230809T163046Z
LAST-MODIFIED:20240409T143926Z
UID:10000038-1716037200-1716044400@weecycle.org
SUMMARY:Get Help: Aurora - North Middle School
DESCRIPTION:If you need help with baby essentials like diapers\, wipes\, baby food or formula\, “Wee” are here to provide a helping hand- and our friends at We Don’t Waste will have food available as well! Everything is free and available to anyone in need. This is an outdoor\, walk-up market so remember to bring a wagon/stroller/reusable bags to carry items. \n  \nGet the Plentiful app: https://plntfl.app/l/app\, create a profile\, and search for WDW on the map or in the list view to register! Or text WDW to 726879. Please register in advance to help make the check-in/pick-up process faster!
URL:https://weecycle.org/event/aurora-north-middle-school-2/
LOCATION:North Middle School\, 12095 E. Montview Blvd\, Aurora\, CO\, 80010\, United States
CATEGORIES:Distribution
ORGANIZER;CN="WeeCycle":MAILTO:info@weecycle.org
END:VEVENT
END:VCALENDAR